BEGIN:VCALENDAR
VERSION:2.0
PRODID:-//ExpressionEngine Easy iCalendar plugin//NONSGML v2.0.1//EN
X-WR-TIMEZONE:America/Chicago
X-WR-CALNAME:Upcoming Auctions
BEGIN:VEVENT
UID:160624
DTSTAMP:20260416T190000
DTSTART:20260416T190000
DTEND:20260422T183000
SUMMARY:West Fargo Spring Vehicle Consignment Sale!
LOCATION:1921 4th Ave NW Suite 1\, West Fargo\, ND 58078\, US
DESCRIPTION:Location : 1921 4th Ave NW Suite 1 West Fargo\, ND 58078 All 
 items must be picked up at the auction address. ALL DESCRIPT
 IONS AND CONDITIONS INDICATED ARE NOT GUARANTEED. PLEASE REA
 D THE TERMS AND CONDITIONS OF SERVICE FOR MORE DETAILS PRIOR
  TO EACH BID. ALL ITEMS ARE SOLD AS IS\, WHERE IS\, WITH ALL F
 AULTS AND WITH NO WARRANTY. Fargo Auctions recommends that 
 all bidders inspect items before placing bids.   Terms and 
 Conditions of Sale By placing a bid\, you accept all of the f
 ollowing Terms and Conditions of Sale and the Terms and Cond
 itions of Service.  CLOSE OF RESERVE AUCTION This reserve a
 uction shall end at 6:30 pm on Wednesday April 22nd\, 202
 6\; provided\, however\, that this reserve auction will close 
 using an extended bidding format. SALES TAX Fargo Auctions w
 ill not be collecting sales tax or other fees associated wit
 h transferring titled items\; this will be done at Motor Vehi
 cle. BUYER’S FEE OR PREMIUM A buyer’s fee of 15% (premi
 um) is charged on each item. INSPECTION INFORMATION By appoi
 ntment only. Any questions call/text Ciara 701-866-1559 PAY
 MENT & PICKUP INFORMATION Thursday April 23rd\, 2026 8:30am-5
 pm. ***PLEASE CALL TO SCHEDULE AN APPOINTMENT WITHIN THESE H
 OURS.*** Any questions call/text Ciara 701-866-1559 PAYMENT 
 TERMS Cash\, cashier’s check or bank wire are acceptable fo
 rms of payment. NO PERSONAL CHECKS. NO CREDIT CARDS.   TITL
 ED ITEMS All titled items will have a $100.00 doc fee. No ex
 ceptions. NO PERSONAL CHECKS. NO CREDIT CARDS. ANY TRANSACTI
 ONS OVER $5\,000 MUST BE PAID FOR BY BANK WIRE ONLY. All Cas
 hier’s Checks must be made payable to SNB Enterprises. All
  Cashier’s Checks will be verified by the Financial Instit
 ution upon which they are drawn. No items will be released u
 ntil the entire invoice is paid in full. If you do not pick 
 up your items or make arrangements to do so on load out day\,
  you will be blocked from placing future bids.
URL:https://www.fargoauctions.com/auctions/detail/bw160624
SEQUENCE:1
END:VEVENT
END:VCALENDAR