BEGIN:VCALENDAR
VERSION:2.0
PRODID:-//ExpressionEngine Easy iCalendar plugin//NONSGML v2.0.0//EN
X-WR-TIMEZONE:America/Chicago
X-WR-CALNAME:Upcoming Auctions
BEGIN:VEVENT
UID:148152
DTSTAMP:20250911T180000
DTSTART:20250911T180000
DTEND:20250924T183000
SUMMARY:West Fargo September Consignments & Store Returns!
LOCATION:1921 4th Ave NW Suite 1\, West Fargo\, ND 58078\, US
DESCRIPTION:Location : 1921 4th Ave NW Suite 1 West Fargo\, ND 58078 All 
 items must be picked up at the auction address. ALL DESCRIPT
 IONS AND CONDITIONS INDICATED ARE NOT GUARANTEED. PLEASE REA
 D THE TERMS AND CONDITIONS OF SERVICE FOR MORE DETAILS PRIOR
  TO EACH BID. ALL ITEMS ARE SOLD AS IS\, WHERE IS\, WITH ALL F
 AULTS AND WITH NO WARRANTY. Fargo Auctions recommends that 
 all bidders inspect items before placing bids.   Terms and 
 Conditions of Sale By placing a bid\, you accept all of the f
 ollowing Terms and Conditions of Sale and the Terms and Cond
 itions of Service.  CLOSE OF RESERVE AUCTION This reserve a
 uction shall end at 6:30 pm on Wednesday September 24th\, 20
 25\; provided\, however\, that this reserve auction will close
  using an extended bidding format. SALES TAX 8% ND SALES TAX
  - Unless you have a ND Sale Tax Resale Exempt Form on file 
 with us. Fargo Auctions will be collecting ND sales tax. All
  fees associated with transferring titled items will be don
 e at Motor Vehicle. BUYER’S FEE OR PREMIUM A buyer’s fee
  of 15% (premium) is charged on each item. INSPECTION INFOR
 MATION By appointment only. Any questions call/text Ciara 7
 01-866-1559 PAYMENT & PICKUP INFORMATION Thursday September 
 25th\, 2025  8:30AM - 5:00PM Any questions call/text Ciara 
 701-866-1559 PAYMENT TERMS Cash\, cashier’s check or bank w
 ire are acceptable forms of payment. Fargo Auctions will acc
 ept credit card payments with an additional 4% fee for trans
 actions under $500. No credit cards are accepted over $500. 
 NO PERSONAL CHECKS. ANY TRANSACTIONS OVER $5\,000 MUST BE PA
 ID FOR BY BANK WIRE ONLY. All Cashier’s Checks must be mad
 e payable to Fargo Auctions. All Cashier’s Checks will be 
 verified by the Financial Institution upon which they are dr
 awn. No items will be released until the entire invoice is p
 aid in full. If you do not pick up your items or make arrang
 ements to do so on load out day\, you will be blocked from pl
 acing future bids.
URL:https://www.fargoauctions.com/auctions/detail/bw148152
SEQUENCE:1
END:VEVENT
END:VCALENDAR