BEGIN:VCALENDAR
VERSION:2.0
PRODID:-//ExpressionEngine Easy iCalendar plugin//NONSGML v2.0.1//EN
X-WR-TIMEZONE:America/Chicago
X-WR-CALNAME:Upcoming Auctions
BEGIN:VEVENT
UID:147944
DTSTAMP:20260325T180000
DTSTART:20260325T180000
DTEND:20260430T180000
SUMMARY:Now Accepting Consignments!
LOCATION:{location}
DESCRIPTION:Now accepting consignments! Give us a call at 701-866-1559. 
 We can sell at our location or yours!
URL:https://www.fargoauctions.com/auctions/detail/bw147944
SEQUENCE:1
END:VEVENT
END:VCALENDAR