BEGIN:VCALENDAR
VERSION:2.0
PRODID:-//ExpressionEngine Easy iCalendar plugin//NONSGML v2.0.0//EN
X-WR-TIMEZONE:America/Chicago
X-WR-CALNAME:Upcoming Auctions
BEGIN:VEVENT
UID:130317
DTSTAMP:20241024T130000
DTSTART:20241024T130000
DTEND:20241113T183000
SUMMARY:West Fargo Fall Store Returns & Overstock
LOCATION:1508 4th Ave Nw\, West Fargo\, ND 58078\, US
DESCRIPTION:Check out our wide variety of overstock & store return items
 !
URL:https://www.fargoauctions.com/auctions/detail/bw130317
SEQUENCE:1
END:VEVENT
END:VCALENDAR